BEGIN:VCALENDAR
VERSION:2.0
PRODID:-//Schützengesellschaft Staffelbach - ECPv6.15.14//NONSGML v1.0//EN
CALSCALE:GREGORIAN
METHOD:PUBLISH
X-ORIGINAL-URL:https://sg-staffelbach.ch/wordpress
X-WR-CALDESC:Veranstaltungen für Schützengesellschaft Staffelbach
REFRESH-INTERVAL;VALUE=DURATION:PT1H
X-Robots-Tag:noindex
X-PUBLISHED-TTL:PT1H
BEGIN:VTIMEZONE
TZID:Europe/Paris
BEGIN:DAYLIGHT
TZOFFSETFROM:+0100
TZOFFSETTO:+0200
TZNAME:CEST
DTSTART:20250330T010000
END:DAYLIGHT
BEGIN:STANDARD
TZOFFSETFROM:+0200
TZOFFSETTO:+0100
TZNAME:CET
DTSTART:20251026T010000
END:STANDARD
BEGIN:DAYLIGHT
TZOFFSETFROM:+0100
TZOFFSETTO:+0200
TZNAME:CEST
DTSTART:20260329T010000
END:DAYLIGHT
BEGIN:STANDARD
TZOFFSETFROM:+0200
TZOFFSETTO:+0100
TZNAME:CET
DTSTART:20261025T010000
END:STANDARD
BEGIN:DAYLIGHT
TZOFFSETFROM:+0100
TZOFFSETTO:+0200
TZNAME:CEST
DTSTART:20270328T010000
END:DAYLIGHT
BEGIN:STANDARD
TZOFFSETFROM:+0200
TZOFFSETTO:+0100
TZNAME:CET
DTSTART:20271031T010000
END:STANDARD
END:VTIMEZONE
BEGIN:VEVENT
DTSTART;TZID=Europe/Paris:20261107T130000
DTEND;TZID=Europe/Paris:20261107T160000
DTSTAMP:20260426T055950
CREATED:20260420T201745Z
LAST-MODIFIED:20260420T201745Z
UID:2028-1794056400-1794067200@sg-staffelbach.ch
SUMMARY:OSV Cup Wiliberg
DESCRIPTION:
URL:https://sg-staffelbach.ch/wordpress/event/osv-cup-wiliberg
CATEGORIES:Auswärtige Anlässe
END:VEVENT
BEGIN:VEVENT
DTSTART;TZID=Europe/Paris:20261120T193000
DTEND;TZID=Europe/Paris:20261120T223000
DTSTAMP:20260426T055950
CREATED:20260420T201828Z
LAST-MODIFIED:20260420T201828Z
UID:2030-1795203000-1795213800@sg-staffelbach.ch
SUMMARY:Absenden
DESCRIPTION:
URL:https://sg-staffelbach.ch/wordpress/event/absenden-7
LOCATION:Schützenhaus Staffelbach\, Schützenweg 1\, Staffelbach\, 5053\, Schweiz
CATEGORIES:Schützenhaus Staffelbach
END:VEVENT
END:VCALENDAR