BEGIN:VCALENDAR
VERSION:2.0
PRODID:-//Schützengesellschaft Staffelbach - ECPv6.15.14//NONSGML v1.0//EN
CALSCALE:GREGORIAN
METHOD:PUBLISH
X-ORIGINAL-URL:https://sg-staffelbach.ch/wordpress
X-WR-CALDESC:Veranstaltungen für Schützengesellschaft Staffelbach
REFRESH-INTERVAL;VALUE=DURATION:PT1H
X-Robots-Tag:noindex
X-PUBLISHED-TTL:PT1H
BEGIN:VTIMEZONE
TZID:Europe/Paris
BEGIN:DAYLIGHT
TZOFFSETFROM:+0100
TZOFFSETTO:+0200
TZNAME:CEST
DTSTART:20250330T010000
END:DAYLIGHT
BEGIN:STANDARD
TZOFFSETFROM:+0200
TZOFFSETTO:+0100
TZNAME:CET
DTSTART:20251026T010000
END:STANDARD
BEGIN:DAYLIGHT
TZOFFSETFROM:+0100
TZOFFSETTO:+0200
TZNAME:CEST
DTSTART:20260329T010000
END:DAYLIGHT
BEGIN:STANDARD
TZOFFSETFROM:+0200
TZOFFSETTO:+0100
TZNAME:CET
DTSTART:20261025T010000
END:STANDARD
BEGIN:DAYLIGHT
TZOFFSETFROM:+0100
TZOFFSETTO:+0200
TZNAME:CEST
DTSTART:20270328T010000
END:DAYLIGHT
BEGIN:STANDARD
TZOFFSETFROM:+0200
TZOFFSETTO:+0100
TZNAME:CET
DTSTART:20271031T010000
END:STANDARD
END:VTIMEZONE
BEGIN:VEVENT
DTSTART;TZID=Europe/Paris:20261007T170000
DTEND;TZID=Europe/Paris:20261007T190000
DTSTAMP:20260426T045554
CREATED:20260420T195710Z
LAST-MODIFIED:20260420T195710Z
UID:1980-1791392400-1791399600@sg-staffelbach.ch
SUMMARY:Training
DESCRIPTION:
URL:https://sg-staffelbach.ch/wordpress/event/training-108
LOCATION:Schützenhaus Staffelbach\, Schützenweg 1\, Staffelbach\, 5053\, Schweiz
CATEGORIES:Training
END:VEVENT
BEGIN:VEVENT
DTSTART;TZID=Europe/Paris:20261021T170000
DTEND;TZID=Europe/Paris:20261021T190000
DTSTAMP:20260426T045554
CREATED:20260420T195731Z
LAST-MODIFIED:20260420T195731Z
UID:1982-1792602000-1792609200@sg-staffelbach.ch
SUMMARY:Training
DESCRIPTION:
URL:https://sg-staffelbach.ch/wordpress/event/training-109
LOCATION:Schützenhaus Staffelbach\, Schützenweg 1\, Staffelbach\, 5053\, Schweiz
CATEGORIES:Training
END:VEVENT
END:VCALENDAR