BEGIN:VCALENDAR
VERSION:2.0
PRODID:-//Schützengesellschaft Staffelbach - ECPv6.15.14//NONSGML v1.0//EN
CALSCALE:GREGORIAN
METHOD:PUBLISH
X-WR-CALNAME:Schützengesellschaft Staffelbach
X-ORIGINAL-URL:https://sg-staffelbach.ch/wordpress
X-WR-CALDESC:Veranstaltungen für Schützengesellschaft Staffelbach
REFRESH-INTERVAL;VALUE=DURATION:PT1H
X-Robots-Tag:noindex
X-PUBLISHED-TTL:PT1H
BEGIN:VTIMEZONE
TZID:Europe/Paris
BEGIN:DAYLIGHT
TZOFFSETFROM:+0100
TZOFFSETTO:+0200
TZNAME:CEST
DTSTART:20250330T010000
END:DAYLIGHT
BEGIN:STANDARD
TZOFFSETFROM:+0200
TZOFFSETTO:+0100
TZNAME:CET
DTSTART:20251026T010000
END:STANDARD
BEGIN:DAYLIGHT
TZOFFSETFROM:+0100
TZOFFSETTO:+0200
TZNAME:CEST
DTSTART:20260329T010000
END:DAYLIGHT
BEGIN:STANDARD
TZOFFSETFROM:+0200
TZOFFSETTO:+0100
TZNAME:CET
DTSTART:20261025T010000
END:STANDARD
BEGIN:DAYLIGHT
TZOFFSETFROM:+0100
TZOFFSETTO:+0200
TZNAME:CEST
DTSTART:20270328T010000
END:DAYLIGHT
BEGIN:STANDARD
TZOFFSETFROM:+0200
TZOFFSETTO:+0100
TZNAME:CET
DTSTART:20271031T010000
END:STANDARD
END:VTIMEZONE
BEGIN:VEVENT
DTSTART;TZID=Europe/Paris:20260805T180000
DTEND;TZID=Europe/Paris:20260805T200000
DTSTAMP:20260426T021457
CREATED:20260420T195432Z
LAST-MODIFIED:20260420T195432Z
UID:1968-1785952800-1785960000@sg-staffelbach.ch
SUMMARY:Training
DESCRIPTION:
URL:https://sg-staffelbach.ch/wordpress/event/training-102
LOCATION:Schützenhaus Staffelbach\, Schützenweg 1\, Staffelbach\, 5053\, Schweiz
CATEGORIES:Training
END:VEVENT
BEGIN:VEVENT
DTSTART;TZID=Europe/Paris:20260812T180000
DTEND;TZID=Europe/Paris:20260812T200000
DTSTAMP:20260426T021457
CREATED:20260420T200614Z
LAST-MODIFIED:20260420T200614Z
UID:2000-1786557600-1786564800@sg-staffelbach.ch
SUMMARY:Obligatorisch
DESCRIPTION:
URL:https://sg-staffelbach.ch/wordpress/event/obligatorisch-21
LOCATION:Schützenhaus Staffelbach\, Schützenweg 1\, Staffelbach\, 5053\, Schweiz
CATEGORIES:Obligatorisch
END:VEVENT
BEGIN:VEVENT
DTSTART;TZID=Europe/Paris:20260819T180000
DTEND;TZID=Europe/Paris:20260819T200000
DTSTAMP:20260426T021457
CREATED:20260420T200350Z
LAST-MODIFIED:20260420T200350Z
UID:1994-1787162400-1787169600@sg-staffelbach.ch
SUMMARY:OSV Training Staffelbach
DESCRIPTION:
URL:https://sg-staffelbach.ch/wordpress/event/osv-training-staffelbach-6
CATEGORIES:OSV Training Staffelbach
END:VEVENT
BEGIN:VEVENT
DTSTART;TZID=Europe/Paris:20260826T180000
DTEND;TZID=Europe/Paris:20260826T200000
DTSTAMP:20260426T021457
CREATED:20260420T195459Z
LAST-MODIFIED:20260420T195459Z
UID:1970-1787767200-1787774400@sg-staffelbach.ch
SUMMARY:Training
DESCRIPTION:
URL:https://sg-staffelbach.ch/wordpress/event/training-103
LOCATION:Schützenhaus Staffelbach\, Schützenweg 1\, Staffelbach\, 5053\, Schweiz
CATEGORIES:Training
END:VEVENT
BEGIN:VEVENT
DTSTART;TZID=Europe/Paris:20260829T090000
DTEND;TZID=Europe/Paris:20260829T120000
DTSTAMP:20260426T021457
CREATED:20260420T201612Z
LAST-MODIFIED:20260420T201612Z
UID:2024-1787994000-1788004800@sg-staffelbach.ch
SUMMARY:Matchgruppe
DESCRIPTION:
URL:https://sg-staffelbach.ch/wordpress/event/matchgruppe
LOCATION:Schützenhaus Staffelbach\, Schützenweg 1\, Staffelbach\, 5053\, Schweiz
CATEGORIES:Training
END:VEVENT
BEGIN:VEVENT
DTSTART;TZID=Europe/Paris:20260829T133000
DTEND;TZID=Europe/Paris:20260829T160000
DTSTAMP:20260426T021457
CREATED:20260420T200640Z
LAST-MODIFIED:20260420T200640Z
UID:2002-1788010200-1788019200@sg-staffelbach.ch
SUMMARY:Obligatorisch
DESCRIPTION:
URL:https://sg-staffelbach.ch/wordpress/event/obligatorisch-22
LOCATION:Schützenhaus Staffelbach\, Schützenweg 1\, Staffelbach\, 5053\, Schweiz
CATEGORIES:Obligatorisch
END:VEVENT
END:VCALENDAR