BEGIN:VCALENDAR
VERSION:2.0
PRODID:-//Schützengesellschaft Staffelbach - ECPv6.15.14//NONSGML v1.0//EN
CALSCALE:GREGORIAN
METHOD:PUBLISH
X-WR-CALNAME:Schützengesellschaft Staffelbach
X-ORIGINAL-URL:https://sg-staffelbach.ch/wordpress
X-WR-CALDESC:Veranstaltungen für Schützengesellschaft Staffelbach
REFRESH-INTERVAL;VALUE=DURATION:PT1H
X-Robots-Tag:noindex
X-PUBLISHED-TTL:PT1H
BEGIN:VTIMEZONE
TZID:Europe/Paris
BEGIN:DAYLIGHT
TZOFFSETFROM:+0100
TZOFFSETTO:+0200
TZNAME:CEST
DTSTART:20250330T010000
END:DAYLIGHT
BEGIN:STANDARD
TZOFFSETFROM:+0200
TZOFFSETTO:+0100
TZNAME:CET
DTSTART:20251026T010000
END:STANDARD
BEGIN:DAYLIGHT
TZOFFSETFROM:+0100
TZOFFSETTO:+0200
TZNAME:CEST
DTSTART:20260329T010000
END:DAYLIGHT
BEGIN:STANDARD
TZOFFSETFROM:+0200
TZOFFSETTO:+0100
TZNAME:CET
DTSTART:20261025T010000
END:STANDARD
BEGIN:DAYLIGHT
TZOFFSETFROM:+0100
TZOFFSETTO:+0200
TZNAME:CEST
DTSTART:20270328T010000
END:DAYLIGHT
BEGIN:STANDARD
TZOFFSETFROM:+0200
TZOFFSETTO:+0100
TZNAME:CET
DTSTART:20271031T010000
END:STANDARD
END:VTIMEZONE
BEGIN:VEVENT
DTSTART;TZID=Europe/Paris:20260603T180000
DTEND;TZID=Europe/Paris:20260603T200000
DTSTAMP:20260425T231040
CREATED:20260420T195244Z
LAST-MODIFIED:20260420T195244Z
UID:1960-1780509600-1780516800@sg-staffelbach.ch
SUMMARY:Training mit Jungschützen
DESCRIPTION:
URL:https://sg-staffelbach.ch/wordpress/event/training-mit-jungschuetzen-48
LOCATION:Schützenhaus Staffelbach\, Schützenweg 1\, Staffelbach\, 5053\, Schweiz
CATEGORIES:Training
END:VEVENT
BEGIN:VEVENT
DTSTART;TZID=Europe/Paris:20260610T180000
DTEND;TZID=Europe/Paris:20260610T200000
DTSTAMP:20260425T231040
CREATED:20260420T195301Z
LAST-MODIFIED:20260420T195301Z
UID:1962-1781114400-1781121600@sg-staffelbach.ch
SUMMARY:Training mit Jungschützen
DESCRIPTION:
URL:https://sg-staffelbach.ch/wordpress/event/training-mit-jungschuetzen-49
LOCATION:Schützenhaus Staffelbach\, Schützenweg 1\, Staffelbach\, 5053\, Schweiz
CATEGORIES:Training
END:VEVENT
BEGIN:VEVENT
DTSTART;TZID=Europe/Paris:20260615T180000
DTEND;TZID=Europe/Paris:20260615T200000
DTSTAMP:20260425T231040
CREATED:20260420T195347Z
LAST-MODIFIED:20260420T195347Z
UID:1964-1781546400-1781553600@sg-staffelbach.ch
SUMMARY:Training (Ersatztraining)
DESCRIPTION:
URL:https://sg-staffelbach.ch/wordpress/event/training-ersatztraining
LOCATION:Schützenhaus Staffelbach\, Schützenweg 1\, Staffelbach\, 5053\, Schweiz
CATEGORIES:Training
END:VEVENT
BEGIN:VEVENT
DTSTART;TZID=Europe/Paris:20260617T180000
DTEND;TZID=Europe/Paris:20260617T200000
DTSTAMP:20260425T231040
CREATED:20260420T200324Z
LAST-MODIFIED:20260420T200324Z
UID:1992-1781719200-1781726400@sg-staffelbach.ch
SUMMARY:OSV Training Wiliberg
DESCRIPTION:
URL:https://sg-staffelbach.ch/wordpress/event/osv-training-wiliberg-3
CATEGORIES:OSV Training
END:VEVENT
BEGIN:VEVENT
DTSTART;TZID=Europe/Paris:20260621T070000
DTEND;TZID=Europe/Paris:20260621T150000
DTSTAMP:20260425T231040
CREATED:20260420T201205Z
LAST-MODIFIED:20260420T201205Z
UID:2016-1782025200-1782054000@sg-staffelbach.ch
SUMMARY:eidg. Schützenfest Chur
DESCRIPTION:
URL:https://sg-staffelbach.ch/wordpress/event/eidg-schuetzenfest-chur
CATEGORIES:Schützenfest
END:VEVENT
BEGIN:VEVENT
DTSTART;TZID=Europe/Paris:20260621T180000
DTEND;TZID=Europe/Paris:20260621T220000
DTSTAMP:20260425T231040
CREATED:20260420T201232Z
LAST-MODIFIED:20260420T201232Z
UID:2018-1782064800-1782079200@sg-staffelbach.ch
SUMMARY:Vereinsempfang Staffelbach
DESCRIPTION:
URL:https://sg-staffelbach.ch/wordpress/event/vereinsempfang-staffelbach
CATEGORIES:Schützenfest
END:VEVENT
BEGIN:VEVENT
DTSTART;TZID=Europe/Paris:20260626T180000
DTEND;TZID=Europe/Paris:20260626T200000
DTSTAMP:20260425T231040
CREATED:20260420T201407Z
LAST-MODIFIED:20260420T201407Z
UID:2022-1782496800-1782504000@sg-staffelbach.ch
SUMMARY:Jungschützen-Wettschiessen Brittnau
DESCRIPTION:
URL:https://sg-staffelbach.ch/wordpress/event/jungschuetzen-wettschiessen-brittnau-2
CATEGORIES:Auswärtige Anlässe
END:VEVENT
END:VCALENDAR