BEGIN:VCALENDAR
VERSION:2.0
PRODID:-//Schützengesellschaft Staffelbach - ECPv6.15.14//NONSGML v1.0//EN
CALSCALE:GREGORIAN
METHOD:PUBLISH
X-ORIGINAL-URL:https://sg-staffelbach.ch/wordpress
X-WR-CALDESC:Veranstaltungen für Schützengesellschaft Staffelbach
REFRESH-INTERVAL;VALUE=DURATION:PT1H
X-Robots-Tag:noindex
X-PUBLISHED-TTL:PT1H
BEGIN:VTIMEZONE
TZID:Europe/Paris
BEGIN:DAYLIGHT
TZOFFSETFROM:+0100
TZOFFSETTO:+0200
TZNAME:CEST
DTSTART:20250330T010000
END:DAYLIGHT
BEGIN:STANDARD
TZOFFSETFROM:+0200
TZOFFSETTO:+0100
TZNAME:CET
DTSTART:20251026T010000
END:STANDARD
BEGIN:DAYLIGHT
TZOFFSETFROM:+0100
TZOFFSETTO:+0200
TZNAME:CEST
DTSTART:20260329T010000
END:DAYLIGHT
BEGIN:STANDARD
TZOFFSETFROM:+0200
TZOFFSETTO:+0100
TZNAME:CET
DTSTART:20261025T010000
END:STANDARD
BEGIN:DAYLIGHT
TZOFFSETFROM:+0100
TZOFFSETTO:+0200
TZNAME:CEST
DTSTART:20270328T010000
END:DAYLIGHT
BEGIN:STANDARD
TZOFFSETFROM:+0200
TZOFFSETTO:+0100
TZNAME:CET
DTSTART:20271031T010000
END:STANDARD
END:VTIMEZONE
BEGIN:VEVENT
DTSTART;TZID=Europe/Paris:20260506T180000
DTEND;TZID=Europe/Paris:20260506T200000
DTSTAMP:20260425T214726
CREATED:20260420T195109Z
LAST-MODIFIED:20260420T195109Z
UID:1954-1778090400-1778097600@sg-staffelbach.ch
SUMMARY:Training mit Jungschützen
DESCRIPTION:
URL:https://sg-staffelbach.ch/wordpress/event/training-mit-jungschuetzen-45
LOCATION:Schützenhaus Staffelbach\, Schützenweg 1\, Staffelbach\, 5053\, Schweiz
CATEGORIES:Training
END:VEVENT
BEGIN:VEVENT
DTSTART;TZID=Europe/Paris:20260508T180000
DTEND;TZID=Europe/Paris:20260508T200000
DTSTAMP:20260425T214726
CREATED:20260420T200832Z
LAST-MODIFIED:20260420T200832Z
UID:2004-1778263200-1778270400@sg-staffelbach.ch
SUMMARY:OSV Becherschiessen Staffelbach
DESCRIPTION:
URL:https://sg-staffelbach.ch/wordpress/event/osv-becherschiessen-staffelbach-2
LOCATION:Schützenhaus Staffelbach\, Schützenweg 1\, Staffelbach\, 5053\, Schweiz
CATEGORIES:Feldschiessen Staffelbach
END:VEVENT
BEGIN:VEVENT
DTSTART;TZID=Europe/Paris:20260509T090000
DTEND;TZID=Europe/Paris:20260509T120000
DTSTAMP:20260425T214726
CREATED:20260420T200854Z
LAST-MODIFIED:20260420T200854Z
UID:2006-1778317200-1778328000@sg-staffelbach.ch
SUMMARY:OSV Becherschiessen Staffelbach
DESCRIPTION:
URL:https://sg-staffelbach.ch/wordpress/event/osv-becherschiessen-staffelbach-3
LOCATION:Schützenhaus Staffelbach\, Schützenweg 1\, Staffelbach\, 5053\, Schweiz
CATEGORIES:Feldschiessen Staffelbach
END:VEVENT
BEGIN:VEVENT
DTSTART;TZID=Europe/Paris:20260513T180000
DTEND;TZID=Europe/Paris:20260513T200000
DTSTAMP:20260425T214726
CREATED:20260420T200552Z
LAST-MODIFIED:20260420T200552Z
UID:1998-1778695200-1778702400@sg-staffelbach.ch
SUMMARY:Feuerwehrschiessen Regiowehr
DESCRIPTION:
URL:https://sg-staffelbach.ch/wordpress/event/feuerwehrschiessen-regiowehr-6
LOCATION:Schützenhaus Staffelbach\, Schützenweg 1\, Staffelbach\, 5053\, Schweiz
CATEGORIES:Obligatorisch
END:VEVENT
BEGIN:VEVENT
DTSTART;TZID=Europe/Paris:20260516T080000
DTEND;TZID=Europe/Paris:20260516T120000
DTSTAMP:20260425T214726
CREATED:20260420T200943Z
LAST-MODIFIED:20260420T200943Z
UID:2008-1778918400-1778932800@sg-staffelbach.ch
SUMMARY:GM Final Möhlin
DESCRIPTION:
URL:https://sg-staffelbach.ch/wordpress/event/gm-final-moehlin-4
CATEGORIES:Auswärtige Anlässe
END:VEVENT
BEGIN:VEVENT
DTSTART;TZID=Europe/Paris:20260520T180000
DTEND;TZID=Europe/Paris:20260520T200000
DTSTAMP:20260425T214726
CREATED:20260420T195134Z
LAST-MODIFIED:20260420T195134Z
UID:1956-1779300000-1779307200@sg-staffelbach.ch
SUMMARY:Training mit Jungschützen
DESCRIPTION:
URL:https://sg-staffelbach.ch/wordpress/event/training-mit-jungschuetzen-46
LOCATION:Schützenhaus Staffelbach\, Schützenweg 1\, Staffelbach\, 5053\, Schweiz
CATEGORIES:Training
END:VEVENT
BEGIN:VEVENT
DTSTART;TZID=Europe/Paris:20260522T180000
DTEND;TZID=Europe/Paris:20260522T200000
DTSTAMP:20260425T214726
CREATED:20260420T201026Z
LAST-MODIFIED:20260420T201026Z
UID:2010-1779472800-1779480000@sg-staffelbach.ch
SUMMARY:Feldschiessen Attelwil
DESCRIPTION:
URL:https://sg-staffelbach.ch/wordpress/event/feldschiessen-attelwil-7
CATEGORIES:Feldschiessen
END:VEVENT
BEGIN:VEVENT
DTSTART;TZID=Europe/Paris:20260527T180000
DTEND;TZID=Europe/Paris:20260527T200000
DTSTAMP:20260425T214726
CREATED:20260420T195152Z
LAST-MODIFIED:20260420T195152Z
UID:1958-1779904800-1779912000@sg-staffelbach.ch
SUMMARY:Training mit Jungschützen
DESCRIPTION:
URL:https://sg-staffelbach.ch/wordpress/event/training-mit-jungschuetzen-47
LOCATION:Schützenhaus Staffelbach\, Schützenweg 1\, Staffelbach\, 5053\, Schweiz
CATEGORIES:Training
END:VEVENT
BEGIN:VEVENT
DTSTART;TZID=Europe/Paris:20260530T090000
DTEND;TZID=Europe/Paris:20260530T153000
DTSTAMP:20260425T214726
CREATED:20260420T201047Z
LAST-MODIFIED:20260420T201047Z
UID:2012-1780131600-1780155000@sg-staffelbach.ch
SUMMARY:Feldschiessen Attelwil
DESCRIPTION:
URL:https://sg-staffelbach.ch/wordpress/event/feldschiessen-attelwil-8
CATEGORIES:Feldschiessen
END:VEVENT
BEGIN:VEVENT
DTSTART;TZID=Europe/Paris:20260531T090000
DTEND;TZID=Europe/Paris:20260531T150000
DTSTAMP:20260425T214726
CREATED:20260420T201111Z
LAST-MODIFIED:20260420T201111Z
UID:2014-1780218000-1780239600@sg-staffelbach.ch
SUMMARY:Feldschiessen Attelwil
DESCRIPTION:
URL:https://sg-staffelbach.ch/wordpress/event/feldschiessen-attelwil-9
CATEGORIES:Feldschiessen
END:VEVENT
END:VCALENDAR